BEGIN:VCALENDAR
VERSION:2.0
PRODID:-//Focales
CALSCALE:GREGORIAN
METHOD:PUBLISH
X-WR-CALNAME:Focales
X-ORIGINAL-URL:https://focales.org/cine-concert-lor-de-mers-de-jean-epstein-par-gaspard-dhumes/
X-WR-CALDESC:CINÉ-CONCERT : L’OR DE MERS DE JEAN EPSTEIN PAR GASPARD DHUMES
BEGIN:VEVENT
DTSTART:20190409T203000
DTEND:20190409T230000
SUMMARY:CINÉ-CONCERT : L’OR DE MERS DE JEAN EPSTEIN PAR GASPARD DHUMES
DESCRIPTION:
LOCATION:29 boulevard gergovia 63000 clermont-ferrand
END:VEVENT
END:VCALENDAR
