BEGIN:VCALENDAR
VERSION:2.0
PRODID:-//Focales
CALSCALE:GREGORIAN
METHOD:PUBLISH
X-WR-CALNAME:Focales
X-ORIGINAL-URL:https://focales.org/atelier-decouverte-de-la-realite-virtuelle/
X-WR-CALDESC:ATELIER DÉCOUVERTE RÉALITÉ VIRTUELLE
BEGIN:VEVENT
DTSTART:20190417T140000
DTEND:20190424T180000
SUMMARY:ATELIER DÉCOUVERTE RÉALITÉ VIRTUELLE
DESCRIPTION:
LOCATION:La Jetée, 6 Place Michel-de-l'Hospital, 63058 Clermont-Ferrand
END:VEVENT
END:VCALENDAR
