BEGIN:VCALENDAR
VERSION:2.0
PRODID:-//Focales
CALSCALE:GREGORIAN
METHOD:PUBLISH
X-WR-CALNAME:Focales
X-ORIGINAL-URL:https://focales.org/lart-daccoucher-en-presence-de-sandra-ducasse/
X-WR-CALDESC:L&rsquo;ART D&rsquo;ACCOUCHER EN PRESENCE DE SANDRA DUCASSE
BEGIN:VEVENT
DTSTART:20190527T200000
DTEND:20190527T223000
SUMMARY:L&rsquo;ART D&rsquo;ACCOUCHER EN PRESENCE DE SANDRA DUCASSE
DESCRIPTION:
LOCATION:178 rue Sous les Vignes Clermont-Ferrand  63100  France
END:VEVENT
END:VCALENDAR
