BEGIN:VCALENDAR
VERSION:2.0
PRODID:-//Focales
CALSCALE:GREGORIAN
METHOD:PUBLISH
X-WR-CALNAME:Focales
X-ORIGINAL-URL:https://focales.org/cinema-du-reel-a-traces-de-vies/
X-WR-CALDESC:CINEMA DU REEL A TRACES DE VIES
BEGIN:VEVENT
DTSTART:20190605T180000
DTEND:20190605T200000
SUMMARY:CINEMA DU REEL A TRACES DE VIES
DESCRIPTION:
LOCATION:Rue Léo Lagrange, 63000 Clermont-Ferrand
END:VEVENT
END:VCALENDAR
