BEGIN:VCALENDAR
VERSION:2.0
PRODID:-//Focales
CALSCALE:GREGORIAN
METHOD:PUBLISH
X-WR-CALNAME:Focales
X-ORIGINAL-URL:https://focales.org/appel-a-films-creation-en-cours-4/
X-WR-CALDESC:APPEL A CANDIDATURES CREATION EN COURS 4
BEGIN:VEVENT
DTSTART:20190502T000000
DTEND:20190603T234500
SUMMARY:APPEL A CANDIDATURES CREATION EN COURS 4
DESCRIPTION:
LOCATION:4 allée Françoise N'Guyen, 93390 Clichy-sous-Bois
END:VEVENT
END:VCALENDAR
