BEGIN:VCALENDAR
VERSION:2.0
PRODID:-//Focales
CALSCALE:GREGORIAN
METHOD:PUBLISH
X-WR-CALNAME:Focales
X-ORIGINAL-URL:https://focales.org/voyage-au-centre-du-rio/
X-WR-CALDESC:VOYAGE AU CENTRE DU RIO
BEGIN:VEVENT
DTSTART:20190608T140000
DTEND:20190608T180000
SUMMARY:VOYAGE AU CENTRE DU RIO
DESCRIPTION:
LOCATION:Cinéma Le Rio 178 rue Sous les Vignes , 63058 Clermont-Ferrand
END:VEVENT
END:VCALENDAR
