BEGIN:VCALENDAR
VERSION:2.0
PRODID:-//Focales
CALSCALE:GREGORIAN
METHOD:PUBLISH
X-WR-CALNAME:Focales
X-ORIGINAL-URL:https://focales.org/beau-joueur-en-presence-de-delphine-glaize/
X-WR-CALDESC:BEAU JOUEUR EN PRESENCE DE DELPHINE GLAIZE
BEGIN:VEVENT
DTSTART:20190614T200000
DTEND:20190614T230000
SUMMARY:BEAU JOUEUR EN PRESENCE DE DELPHINE GLAIZE
DESCRIPTION:
LOCATION:32 Place de Jaude, 63000 Clermont-Ferrand
END:VEVENT
END:VCALENDAR
