BEGIN:VCALENDAR
VERSION:2.0
PRODID:-//Focales
CALSCALE:GREGORIAN
METHOD:PUBLISH
X-WR-CALNAME:Focales
X-ORIGINAL-URL:https://focales.org/19e-rencontres-des-acteurs-de-leducation-aux-images/
X-WR-CALDESC:19e RENCONTRES DES ACTEURS DE L&rsquo;ÉDUCATION AUX IMAGES
BEGIN:VEVENT
DTSTART:20200622T090000
DTEND:20200626T120000
SUMMARY:19e RENCONTRES DES ACTEURS DE L&rsquo;ÉDUCATION AUX IMAGES
DESCRIPTION:
LOCATION:La Jetée, 6 Place Michel-de-l'Hospital, 63058 Clermont-Ferrand 
END:VEVENT
END:VCALENDAR
