BEGIN:VCALENDAR
VERSION:2.0
PRODID:-//Focales
CALSCALE:GREGORIAN
METHOD:PUBLISH
X-WR-CALNAME:Focales
X-ORIGINAL-URL:https://focales.org/danse-avec-tes-maux-en-presence-de-sophia-aram/
X-WR-CALDESC:DANSE AVEC TES MAUX EN PRESENCE DE SOPHIA ARAM
BEGIN:VEVENT
DTSTART:20190625T180000
DTEND:20190625T200000
SUMMARY:DANSE AVEC TES MAUX EN PRESENCE DE SOPHIA ARAM
DESCRIPTION:
LOCATION: 178 Rue sous les Vignes, 63100 Clermont-Ferrand 
END:VEVENT
END:VCALENDAR
