BEGIN:VCALENDAR
VERSION:2.0
PRODID:-//Focales
CALSCALE:GREGORIAN
METHOD:PUBLISH
X-WR-CALNAME:Focales
X-ORIGINAL-URL:https://focales.org/atelier-video-passeurs-dimages-clermont/
X-WR-CALDESC:ATELIER VIDÉO PASSEURS D&rsquo;IMAGES
BEGIN:VEVENT
DTSTART:20150720T090000
DTEND:20150723T180000
SUMMARY:ATELIER VIDÉO PASSEURS D&rsquo;IMAGES
DESCRIPTION:
LOCATION:Centre Copernic, 11 rue d'Aubrac, Clermont-Ferrand
END:VEVENT
END:VCALENDAR
