BEGIN:VCALENDAR
VERSION:2.0
PRODID:-//Focales
CALSCALE:GREGORIAN
METHOD:PUBLISH
X-WR-CALNAME:Focales
X-ORIGINAL-URL:https://focales.org/atelier-video-passeurs-dimages-clermont-3/
X-WR-CALDESC:ATELIER VIDÉO PASSEURS D&rsquo;IMAGES
BEGIN:VEVENT
DTSTART:20151019T100000
DTEND:20151023T180000
SUMMARY:ATELIER VIDÉO PASSEURS D&rsquo;IMAGES
DESCRIPTION:
LOCATION:Maison de quartier Fontaine du Bac 
END:VEVENT
END:VCALENDAR
