BEGIN:VCALENDAR
VERSION:2.0
PRODID:-//Focales
CALSCALE:GREGORIAN
METHOD:PUBLISH
X-WR-CALNAME:Focales
X-ORIGINAL-URL:https://focales.org/atelier-programmation-passeurs-dimages-cournon/
X-WR-CALDESC:RENÉ FAIT SON COURT
BEGIN:VEVENT
DTSTART:20151104T133000
DTEND:20160121T200000
SUMMARY:RENÉ FAIT SON COURT
DESCRIPTION:
LOCATION:52 avenue des Dômes, Cournon
END:VEVENT
END:VCALENDAR
