BEGIN:VCALENDAR
VERSION:2.0
PRODID:-//Focales
CALSCALE:GREGORIAN
METHOD:PUBLISH
X-WR-CALNAME:Focales
X-ORIGINAL-URL:https://focales.org/formation-petit-paysan-la-jeune-fille-sans-mains/
X-WR-CALDESC:FORMATION PETIT PAYSAN &#8211; LA JEUNE FILLE SANS MAINS
BEGIN:VEVENT
DTSTART:20191016T090000
DTEND:20191017T170000
SUMMARY:FORMATION PETIT PAYSAN &#8211; LA JEUNE FILLE SANS MAINS
DESCRIPTION:
LOCATION:La Jetée, 6 Place Michel-de-l'Hospital, 63058 Clermont-Ferrand 
END:VEVENT
END:VCALENDAR
