BEGIN:VCALENDAR
VERSION:2.0
PRODID:-//Focales
CALSCALE:GREGORIAN
METHOD:PUBLISH
X-WR-CALNAME:Focales
X-ORIGINAL-URL:https://focales.org/formation-man-on-the-moon-de-milos-forman/
X-WR-CALDESC:FORMATION MAN ON THE MOON DE MILOS FORMAN
BEGIN:VEVENT
DTSTART:20200114T090000
DTEND:20200115T170000
SUMMARY:FORMATION MAN ON THE MOON DE MILOS FORMAN
DESCRIPTION:
LOCATION:La Jetée, 6 Place Michel-de-l'Hospital, 63058 Clermont-Ferrand 
END:VEVENT
END:VCALENDAR
