BEGIN:VCALENDAR
VERSION:2.0
PRODID:-//Focales
CALSCALE:GREGORIAN
METHOD:PUBLISH
X-WR-CALNAME:Focales
X-ORIGINAL-URL:https://focales.org/en-liberte-le-village-democratique-en-presence-de-alex-ferrini/
X-WR-CALDESC:EN LIBERTE ! LE VILLAGE DEMOCRATIQUE EN PRESENCE DE ALEX FERRINI
BEGIN:VEVENT
DTSTART:20191017T200000
DTEND:20191017T233000
SUMMARY:EN LIBERTE ! LE VILLAGE DEMOCRATIQUE EN PRESENCE DE ALEX FERRINI
DESCRIPTION:
LOCATION:178 Rue sous les Vignes, 63100 Clermont-Ferrand
END:VEVENT
END:VCALENDAR
