BEGIN:VCALENDAR
VERSION:2.0
PRODID:-//Focales
CALSCALE:GREGORIAN
METHOD:PUBLISH
X-WR-CALNAME:Focales
X-ORIGINAL-URL:https://focales.org/decouverte-de-la-realite-virtuelle-3/
X-WR-CALDESC:DECOUVERTE DE LA REALITE VIRTUELLE
BEGIN:VEVENT
DTSTART:20190806T150000
DTEND:20190806T180000
SUMMARY:DECOUVERTE DE LA REALITE VIRTUELLE
DESCRIPTION:
LOCATION:9 Place Louis Aragon, 63000 Clermont-Ferrand
END:VEVENT
END:VCALENDAR
