BEGIN:VCALENDAR
VERSION:2.0
PRODID:-//Focales
CALSCALE:GREGORIAN
METHOD:PUBLISH
X-WR-CALNAME:Focales
X-ORIGINAL-URL:https://focales.org/lenfance-du-septieme-art/
X-WR-CALDESC:L&rsquo;ENFANCE DU SEPTIEME ART
BEGIN:VEVENT
DTSTART:20190809T140000
DTEND:20190818T190000
SUMMARY:L&rsquo;ENFANCE DU SEPTIEME ART
DESCRIPTION:
LOCATION:Château de Mons, 63220 Arlanc
END:VEVENT
END:VCALENDAR
