BEGIN:VCALENDAR
VERSION:2.0
PRODID:-//Focales
CALSCALE:GREGORIAN
METHOD:PUBLISH
X-WR-CALNAME:Focales
X-ORIGINAL-URL:https://focales.org/ecole-et-cinema-le-chant-de-la-mer-de-tomm-moore/
X-WR-CALDESC:ECOLE ET CINEMA &#8211; LE CHANT DE LA MER DE TOMM MOORE
BEGIN:VEVENT
DTSTART:20191009T133000
DTEND:20191009T163000
SUMMARY:ECOLE ET CINEMA &#8211; LE CHANT DE LA MER DE TOMM MOORE
DESCRIPTION:
LOCATION:La Jetée, 6 Place Michel-de-l'Hospital, 63058 Clermont-Ferrand 
END:VEVENT
END:VCALENDAR
