BEGIN:VCALENDAR
VERSION:2.0
PRODID:-//Focales
CALSCALE:GREGORIAN
METHOD:PUBLISH
X-WR-CALNAME:Focales
X-ORIGINAL-URL:https://focales.org/ecole-et-cinema-meme-pas-peur/
X-WR-CALDESC:ECOLE ET CINEMA &#8211; MEME PAS PEUR !
BEGIN:VEVENT
DTSTART:20200108T133000
DTEND:20200108T163000
SUMMARY:ECOLE ET CINEMA &#8211; MEME PAS PEUR !
DESCRIPTION:
LOCATION:La Jetée, 6 Place Michel-de-l'Hospital, 63058 Clermont-Ferrand 
END:VEVENT
END:VCALENDAR
