BEGIN:VCALENDAR
VERSION:2.0
PRODID:-//Focales
CALSCALE:GREGORIAN
METHOD:PUBLISH
X-WR-CALNAME:Focales
X-ORIGINAL-URL:https://focales.org/images-pour-les-tout-petits-les-ritournelles-de-la-chouette/
X-WR-CALDESC:IMAGES POUR LES TOUT-PETITS &#8211; LES RITOURNELLES DE LA CHOUETTE
BEGIN:VEVENT
DTSTART:20191002T100000
DTEND:20191002T120000
SUMMARY:IMAGES POUR LES TOUT-PETITS &#8211; LES RITOURNELLES DE LA CHOUETTE
DESCRIPTION:
LOCATION:8 Rue Jean Baptiste Fabre, 43000 Le Puy-en-Velay
END:VEVENT
END:VCALENDAR
