BEGIN:VCALENDAR
VERSION:2.0
PRODID:-//Focales
CALSCALE:GREGORIAN
METHOD:PUBLISH
X-WR-CALNAME:Focales
X-ORIGINAL-URL:https://focales.org/ecole-et-cinema-meme-pas-peur-2/
X-WR-CALDESC:ECOLE ET CINEMA &#8211; MEME PAS PEUR !
BEGIN:VEVENT
DTSTART:20190925T090000
DTEND:20190925T120000
SUMMARY:ECOLE ET CINEMA &#8211; MEME PAS PEUR !
DESCRIPTION:
LOCATION:4 Place Michelet, 43000 Le Puy-en-Velay
END:VEVENT
END:VCALENDAR
