BEGIN:VCALENDAR
VERSION:2.0
PRODID:-//Focales
CALSCALE:GREGORIAN
METHOD:PUBLISH
X-WR-CALNAME:Focales
X-ORIGINAL-URL:https://focales.org/college-au-cinema-la-traversee-de-paris/
X-WR-CALDESC:COLLEGE AU CINEMA &#8211; LA TRAVERSEE DE PARIS
BEGIN:VEVENT
DTSTART:20190923T090000
DTEND:20190923T173000
SUMMARY:COLLEGE AU CINEMA &#8211; LA TRAVERSEE DE PARIS
DESCRIPTION:
LOCATION:4 Place Michelet, 43000 Le Puy-en-Velay
END:VEVENT
END:VCALENDAR
