BEGIN:VCALENDAR
VERSION:2.0
PRODID:-//Focales
CALSCALE:GREGORIAN
METHOD:PUBLISH
X-WR-CALNAME:Focales
X-ORIGINAL-URL:https://focales.org/ecole-et-cinema-adama/
X-WR-CALDESC:ECOLE ET CINEMA &#8211; ADAMA
BEGIN:VEVENT
DTSTART:20200108T090000
DTEND:20200108T120000
SUMMARY:ECOLE ET CINEMA &#8211; ADAMA
DESCRIPTION:
LOCATION:4 Place Michelet, 43000 Le Puy-en-Velay
END:VEVENT
END:VCALENDAR
