BEGIN:VCALENDAR
VERSION:2.0
PRODID:-//Focales
CALSCALE:GREGORIAN
METHOD:PUBLISH
X-WR-CALNAME:Focales
X-ORIGINAL-URL:https://focales.org/college-au-cinema-400-coups/
X-WR-CALDESC:COLLEGE AU CINEMA &#8211; LES QUATRE CENTS COUPS
BEGIN:VEVENT
DTSTART:20200316T090000
DTEND:20200316T173000
SUMMARY:COLLEGE AU CINEMA &#8211; LES QUATRE CENTS COUPS
DESCRIPTION:
LOCATION:4 Place Michelet, 43000 Le Puy-en-Velay
END:VEVENT
END:VCALENDAR
