BEGIN:VCALENDAR
VERSION:2.0
PRODID:-//Focales
CALSCALE:GREGORIAN
METHOD:PUBLISH
X-WR-CALNAME:Focales
X-ORIGINAL-URL:https://focales.org/atelier-flip-book-4-2/
X-WR-CALDESC:ATELIER FLIP BOOK
BEGIN:VEVENT
DTSTART:20191106T150000
DTEND:20191106T173000
SUMMARY:ATELIER FLIP BOOK
DESCRIPTION:
LOCATION:3 Chemin des Cratères Egueules, 63970 Aydat
END:VEVENT
END:VCALENDAR
