BEGIN:VCALENDAR
VERSION:2.0
PRODID:-//Focales
CALSCALE:GREGORIAN
METHOD:PUBLISH
X-WR-CALNAME:Focales
X-ORIGINAL-URL:https://focales.org/atelier-flip-book-4-3/
X-WR-CALDESC:ATELIER FLIP BOOK
BEGIN:VEVENT
DTSTART:20191116T093000
DTEND:20191116T120000
SUMMARY:ATELIER FLIP BOOK
DESCRIPTION:
LOCATION:21 Impasse des Dames, 63270 Vic-le-Comte
END:VEVENT
END:VCALENDAR
