BEGIN:VCALENDAR
VERSION:2.0
PRODID:-//Focales
CALSCALE:GREGORIAN
METHOD:PUBLISH
X-WR-CALNAME:Focales
X-ORIGINAL-URL:https://focales.org/larchitecture-des-cinemas-en-france/
X-WR-CALDESC:L&rsquo;ARCHITECTURE DES CINEMAS EN FRANCE
BEGIN:VEVENT
DTSTART:20190920T180000
DTEND:20190920T200000
SUMMARY:L&rsquo;ARCHITECTURE DES CINEMAS EN FRANCE
DESCRIPTION:
LOCATION:7 Rue Saint-Dominique, 63000 Clermont-Ferrand
END:VEVENT
END:VCALENDAR
