BEGIN:VCALENDAR
VERSION:2.0
PRODID:-//Focales
CALSCALE:GREGORIAN
METHOD:PUBLISH
X-WR-CALNAME:Focales
X-ORIGINAL-URL:https://focales.org/leffet-pardon-en-presence-de-denis-fabien-corlin/
X-WR-CALDESC:L&rsquo;EFFET PARDON EN PRESENCE DE DENIS-FABIEN CORLIN
BEGIN:VEVENT
DTSTART:20191025T200000
DTEND:20191025T230000
SUMMARY:L&rsquo;EFFET PARDON EN PRESENCE DE DENIS-FABIEN CORLIN
DESCRIPTION:
LOCATION: 178 Rue sous les Vignes, 63100 Clermont-Ferrand 
END:VEVENT
END:VCALENDAR
