BEGIN:VCALENDAR
VERSION:2.0
PRODID:-//Focales
CALSCALE:GREGORIAN
METHOD:PUBLISH
X-WR-CALNAME:Focales
X-ORIGINAL-URL:https://focales.org/jaune-en-presence-de-christophe-bedrossian/
X-WR-CALDESC:JAUNE EN PRESENCE DE CHRISTOPHE BEDROSSIAN
BEGIN:VEVENT
DTSTART:20191108T200000
DTEND:20191108T230000
SUMMARY:JAUNE EN PRESENCE DE CHRISTOPHE BEDROSSIAN
DESCRIPTION:
LOCATION: 178 Rue sous les Vignes, 63100 Clermont-Ferrand 
END:VEVENT
END:VCALENDAR
