BEGIN:VCALENDAR
VERSION:2.0
PRODID:-//Focales
CALSCALE:GREGORIAN
METHOD:PUBLISH
X-WR-CALNAME:Focales
X-ORIGINAL-URL:https://focales.org/rencontre-nationale-des-poles-deducation-a-limage-2020/
X-WR-CALDESC:RENCONTRE DES PÔLES D&rsquo;ÉDUCATION AUX IMAGES 2020
BEGIN:VEVENT
DTSTART:20200203T141500
DTEND:20200204T180000
SUMMARY:RENCONTRE DES PÔLES D&rsquo;ÉDUCATION AUX IMAGES 2020
DESCRIPTION:
LOCATION:La Jetée, Clermont-Ferrand
END:VEVENT
END:VCALENDAR
