BEGIN:VCALENDAR
VERSION:2.0
PRODID:-//Focales
CALSCALE:GREGORIAN
METHOD:PUBLISH
X-WR-CALNAME:Focales
X-ORIGINAL-URL:https://focales.org/la-fete-du-cinema-danimation/
X-WR-CALDESC:LA FETE DU CINEMA D&rsquo;ANIMATION
BEGIN:VEVENT
DTSTART:20191016T090000
DTEND:20191020T173000
SUMMARY:LA FETE DU CINEMA D&rsquo;ANIMATION
DESCRIPTION:
LOCATION:
END:VEVENT
END:VCALENDAR
