BEGIN:VCALENDAR
VERSION:2.0
PRODID:-//Focales
CALSCALE:GREGORIAN
METHOD:PUBLISH
X-WR-CALNAME:Focales
X-ORIGINAL-URL:https://focales.org/rencontre-avec-sebastien-laudenbach/
X-WR-CALDESC:RENCONTRE AVEC SEBASTIEN LAUDENBACH
BEGIN:VEVENT
DTSTART:20191016T140000
DTEND:20191016T180000
SUMMARY:RENCONTRE AVEC SEBASTIEN LAUDENBACH
DESCRIPTION:
LOCATION:Lycée René Descartes, Avenue Jules Ferry, 63800 Cournon-d'Auvergne
END:VEVENT
END:VCALENDAR
