BEGIN:VCALENDAR
VERSION:2.0
PRODID:-//Focales
CALSCALE:GREGORIAN
METHOD:PUBLISH
X-WR-CALNAME:Focales
X-ORIGINAL-URL:https://focales.org/mia-et-le-migou-en-presence-de-jacques-remy-girerd/
X-WR-CALDESC:MIA ET LE MIGOU EN PRESENCE DE JACQUES-REMY GIRERD
BEGIN:VEVENT
DTSTART:20191116T164500
DTEND:20191116T180000
SUMMARY:MIA ET LE MIGOU EN PRESENCE DE JACQUES-REMY GIRERD
DESCRIPTION:
LOCATION:178 Rue sous les Vignes, 63100 Clermont-Ferrand
END:VEVENT
END:VCALENDAR
