BEGIN:VCALENDAR
VERSION:2.0
PRODID:-//Focales
CALSCALE:GREGORIAN
METHOD:PUBLISH
X-WR-CALNAME:Focales
X-ORIGINAL-URL:https://focales.org/jury-etudiant-du-festival-2020/
X-WR-CALDESC:JURY ETUDIANT DU FESTIVAL 2020
BEGIN:VEVENT
DTSTART:20190919T000000
DTEND:20191122T234500
SUMMARY:JURY ETUDIANT DU FESTIVAL 2020
DESCRIPTION:
LOCATION:
END:VEVENT
END:VCALENDAR
