BEGIN:VCALENDAR
VERSION:2.0
PRODID:-//Focales
CALSCALE:GREGORIAN
METHOD:PUBLISH
X-WR-CALNAME:Focales
X-ORIGINAL-URL:https://focales.org/formation-college-au-cinema-cantal/
X-WR-CALDESC:FORMATION COLLEGE AU CINEMA CANTAL
BEGIN:VEVENT
DTSTART:20191014T090000
DTEND:20191014T163000
SUMMARY:FORMATION COLLEGE AU CINEMA CANTAL
DESCRIPTION:
LOCATION:Conseil départemental du Cantal, 28 avenue Gambetta, 15000 Aurillac
END:VEVENT
END:VCALENDAR
