BEGIN:VCALENDAR
VERSION:2.0
PRODID:-//Focales
CALSCALE:GREGORIAN
METHOD:PUBLISH
X-WR-CALNAME:Focales
X-ORIGINAL-URL:https://focales.org/cine-concert-scrapscrat/
X-WR-CALDESC:CINE-CONCERT &#8211; SCRAPSCRAT
BEGIN:VEVENT
DTSTART:20191017T210000
DTEND:20191017T234500
SUMMARY:CINE-CONCERT &#8211; SCRAPSCRAT
DESCRIPTION:
LOCATION:Le Fotomat', 65 boulevard Côte Blatin, 63000 Clermont-Ferrand
END:VEVENT
END:VCALENDAR
