BEGIN:VCALENDAR
VERSION:2.0
PRODID:-//Focales
CALSCALE:GREGORIAN
METHOD:PUBLISH
X-WR-CALNAME:Focales
X-ORIGINAL-URL:https://focales.org/traces-de-vies-28e-festival-du-film-documentaire-2/
X-WR-CALDESC:TRACES DE VIES – 29E FESTIVAL DU FILM DOCUMENTAIRE
BEGIN:VEVENT
DTSTART:20191202T203000
DTEND:20191208T233000
SUMMARY:TRACES DE VIES – 29E FESTIVAL DU FILM DOCUMENTAIRE
DESCRIPTION:
LOCATION:
END:VEVENT
END:VCALENDAR
