BEGIN:VCALENDAR
VERSION:2.0
PRODID:-//Focales
CALSCALE:GREGORIAN
METHOD:PUBLISH
X-WR-CALNAME:Focales
X-ORIGINAL-URL:https://focales.org/le-voyage-de-malenky/
X-WR-CALDESC:LE VOYAGE DE MALENKY
BEGIN:VEVENT
DTSTART:20191109T173000
DTEND:20191109T200000
SUMMARY:LE VOYAGE DE MALENKY
DESCRIPTION:
LOCATION:63690 Tauves
END:VEVENT
END:VCALENDAR
