BEGIN:VCALENDAR
VERSION:2.0
PRODID:-//Focales
CALSCALE:GREGORIAN
METHOD:PUBLISH
X-WR-CALNAME:Focales
X-ORIGINAL-URL:https://focales.org/fellini-conference-de-marie-pierre-lafargue/
X-WR-CALDESC:FELLINI &#8211; CONFERENCE DE MARIE-PIERRE LAFARGUE
BEGIN:VEVENT
DTSTART:20191009T140000
DTEND:20191009T173000
SUMMARY:FELLINI &#8211; CONFERENCE DE MARIE-PIERRE LAFARGUE
DESCRIPTION:
LOCATION:Cinéma Le Rio, 178 Rue sous les Vignes, 63100 Clermont-Ferrand 
END:VEVENT
END:VCALENDAR
