BEGIN:VCALENDAR
VERSION:2.0
PRODID:-//Focales
CALSCALE:GREGORIAN
METHOD:PUBLISH
X-WR-CALNAME:Focales
X-ORIGINAL-URL:https://focales.org/cine-atelier-un-petit-air-de-famille/
X-WR-CALDESC:CINE ATELIER &#8211; UN PETIT AIR DE FAMILLE
BEGIN:VEVENT
DTSTART:20191030T160000
DTEND:20191030T180000
SUMMARY:CINE ATELIER &#8211; UN PETIT AIR DE FAMILLE
DESCRIPTION:
LOCATION:178 Rue sous les Vignes, 63100 Clermont-Ferrand
END:VEVENT
END:VCALENDAR
