BEGIN:VCALENDAR
VERSION:2.0
PRODID:-//Focales
CALSCALE:GREGORIAN
METHOD:PUBLISH
X-WR-CALNAME:Focales
X-ORIGINAL-URL:https://focales.org/warrior-women-en-presence-de-la-realisatrice/
X-WR-CALDESC:WARRIOR WOMEN EN PRESENCE DE LA REALISATRICE
BEGIN:VEVENT
DTSTART:20191028T200000
DTEND:20191028T230000
SUMMARY:WARRIOR WOMEN EN PRESENCE DE LA REALISATRICE
DESCRIPTION:
LOCATION: 178 rue Sous les Vignes Clermont-Ferrand, 63100 France 
END:VEVENT
END:VCALENDAR
