BEGIN:VCALENDAR
VERSION:2.0
PRODID:-//Focales
CALSCALE:GREGORIAN
METHOD:PUBLISH
X-WR-CALNAME:Focales
X-ORIGINAL-URL:https://focales.org/concours-crous-du-film-court-sur-le-theme-alchimie/
X-WR-CALDESC:CONCOURS CROUS DU FILM COURT SUR LE THEME ALCHIMIE
BEGIN:VEVENT
DTSTART:20191011T000000
DTEND:20200515T234500
SUMMARY:CONCOURS CROUS DU FILM COURT SUR LE THEME ALCHIMIE
DESCRIPTION:
LOCATION:Crous Clermont-Auvergne, 25 rue Etienne-Dolet, 63037 Clermont-Ferrand
END:VEVENT
END:VCALENDAR
