BEGIN:VCALENDAR
VERSION:2.0
PRODID:-//Focales
CALSCALE:GREGORIAN
METHOD:PUBLISH
X-WR-CALNAME:Focales
X-ORIGINAL-URL:https://focales.org/farrebique-en-presence-de-dominique-auzel/
X-WR-CALDESC:FARREBIQUE EN PRESENCE DE DOMINIQUE AUZEL
BEGIN:VEVENT
DTSTART:20191108T203000
DTEND:20191108T223000
SUMMARY:FARREBIQUE EN PRESENCE DE DOMINIQUE AUZEL
DESCRIPTION:
LOCATION:La Jetée Clermont-Ferrand
END:VEVENT
END:VCALENDAR
