BEGIN:VCALENDAR
VERSION:2.0
PRODID:-//Focales
CALSCALE:GREGORIAN
METHOD:PUBLISH
X-WR-CALNAME:Focales
X-ORIGINAL-URL:https://focales.org/en-attendant-noel-projections-de-courts-metrages-hivernaux/
X-WR-CALDESC:EN ATTENDANT NOËL : PROJECTIONS DE COURTS MÉTRAGES HIVERNAUX
BEGIN:VEVENT
DTSTART:20191208T103000
DTEND:20191228T143000
SUMMARY:EN ATTENDANT NOËL : PROJECTIONS DE COURTS MÉTRAGES HIVERNAUX
DESCRIPTION:
LOCATION:
END:VEVENT
END:VCALENDAR
