BEGIN:VCALENDAR
VERSION:2.0
PRODID:-//Focales
CALSCALE:GREGORIAN
METHOD:PUBLISH
X-WR-CALNAME:Focales
X-ORIGINAL-URL:https://focales.org/cine-concert-dralhas-de-david-farge/
X-WR-CALDESC:CINÉ CONCERT &#8211; DRALHAS DE DAVID FARGE
BEGIN:VEVENT
DTSTART:20191203T203000
DTEND:20191203T223000
SUMMARY:CINÉ CONCERT &#8211; DRALHAS DE DAVID FARGE
DESCRIPTION:
LOCATION:29 boulevard Gergovia  Clermont-Ferrand, 63000 France
END:VEVENT
END:VCALENDAR
