BEGIN:VCALENDAR
VERSION:2.0
PRODID:-//Focales
CALSCALE:GREGORIAN
METHOD:PUBLISH
X-WR-CALNAME:Focales
X-ORIGINAL-URL:https://focales.org/atelier-pop-hop/
X-WR-CALDESC:ATELIER POP-HOP
BEGIN:VEVENT
DTSTART:20191219T093000
DTEND:20191219T170000
SUMMARY:ATELIER POP-HOP
DESCRIPTION:
LOCATION:7 rue Jules Ferry 15000 Aurillac
END:VEVENT
END:VCALENDAR
