BEGIN:VCALENDAR
VERSION:2.0
PRODID:-//Focales
CALSCALE:GREGORIAN
METHOD:PUBLISH
X-WR-CALNAME:Focales
X-ORIGINAL-URL:https://focales.org/f-comme-fleuve-film-experimental/
X-WR-CALDESC:F COMME FLEUVE, FILM EXPERIMENTAL
BEGIN:VEVENT
DTSTART:20191211T200000
DTEND:20191211T210000
SUMMARY:F COMME FLEUVE, FILM EXPERIMENTAL
DESCRIPTION:
LOCATION:3 rue Léo Lagrange, 63000 CLERMONT-FERRAND
END:VEVENT
END:VCALENDAR
