BEGIN:VCALENDAR
VERSION:2.0
PRODID:-//Focales
CALSCALE:GREGORIAN
METHOD:PUBLISH
X-WR-CALNAME:Focales
X-ORIGINAL-URL:https://focales.org/je-ne-suis-pas-photographe-projection/
X-WR-CALDESC:JE NE SUIS PAS PHOTOGRAPHE &#8211; PROJECTION
BEGIN:VEVENT
DTSTART:20191211T190000
DTEND:20191211T200000
SUMMARY:JE NE SUIS PAS PHOTOGRAPHE &#8211; PROJECTION
DESCRIPTION:
LOCATION:29 Boulevard Gergovia, 63000 Clermont-Ferrand
END:VEVENT
END:VCALENDAR
