BEGIN:VCALENDAR
VERSION:2.0
PRODID:-//Focales
CALSCALE:GREGORIAN
METHOD:PUBLISH
X-WR-CALNAME:Focales
X-ORIGINAL-URL:https://focales.org/chretiens-dalgerie-sur-les-chemins-de-la-rencontre/
X-WR-CALDESC:CHRÉTIENS D’ALGÉRIE, SUR LES CHEMINS DE LA RENCONTRE
BEGIN:VEVENT
DTSTART:20200111T200000
DTEND:20200111T220000
SUMMARY:CHRÉTIENS D’ALGÉRIE, SUR LES CHEMINS DE LA RENCONTRE
DESCRIPTION:
LOCATION:178 Rue sous les Vignes, 63100 Clermont-Ferrand
END:VEVENT
END:VCALENDAR
