BEGIN:VCALENDAR
VERSION:2.0
PRODID:-//Focales
CALSCALE:GREGORIAN
METHOD:PUBLISH
X-WR-CALNAME:Focales
X-ORIGINAL-URL:https://focales.org/cine-avec-tous-shaun-le-mouton-le-film/
X-WR-CALDESC:CINÉ AVEC TOUS ! SHAUN LE MOUTON LE FILM
BEGIN:VEVENT
DTSTART:20200102T160000
DTEND:20200102T180000
SUMMARY:CINÉ AVEC TOUS ! SHAUN LE MOUTON LE FILM
DESCRIPTION:
LOCATION:178 Rue sous les Vignes, 63100 Clermont-Ferrand
END:VEVENT
END:VCALENDAR
